BEGIN:VCALENDAR
VERSION:2.0
PRODID:-//Virginia Tea Party - ECPv6.15.17.1//NONSGML v1.0//EN
CALSCALE:GREGORIAN
METHOD:PUBLISH
X-WR-CALNAME:Virginia Tea Party
X-ORIGINAL-URL:https://vatp.org
X-WR-CALDESC:Events for Virginia Tea Party
REFRESH-INTERVAL;VALUE=DURATION:PT1H
X-Robots-Tag:noindex
X-PUBLISHED-TTL:PT1H
BEGIN:VTIMEZONE
TZID:America/New_York
BEGIN:DAYLIGHT
TZOFFSETFROM:-0500
TZOFFSETTO:-0400
TZNAME:EDT
DTSTART:20150308T070000
END:DAYLIGHT
BEGIN:STANDARD
TZOFFSETFROM:-0400
TZOFFSETTO:-0500
TZNAME:EST
DTSTART:20151101T060000
END:STANDARD
BEGIN:DAYLIGHT
TZOFFSETFROM:-0500
TZOFFSETTO:-0400
TZNAME:EDT
DTSTART:20160313T070000
END:DAYLIGHT
BEGIN:STANDARD
TZOFFSETFROM:-0400
TZOFFSETTO:-0500
TZNAME:EST
DTSTART:20161106T060000
END:STANDARD
BEGIN:DAYLIGHT
TZOFFSETFROM:-0500
TZOFFSETTO:-0400
TZNAME:EDT
DTSTART:20170312T070000
END:DAYLIGHT
BEGIN:STANDARD
TZOFFSETFROM:-0400
TZOFFSETTO:-0500
TZNAME:EST
DTSTART:20171105T060000
END:STANDARD
END:VTIMEZONE
BEGIN:VEVENT
DTSTART;TZID=America/New_York:20160420T190000
DTEND;TZID=America/New_York:20160420T210000
DTSTAMP:20260420T122845
CREATED:20160313T002537Z
LAST-MODIFIED:20160416T200528Z
UID:10000006-1461178800-1461186000@vatp.org
SUMMARY:5th District Candidate Debate 2016
DESCRIPTION:On April 20th at 7PM\, The Virginia Tea Party Patriots Federation is excited to host a debate comprised of the republican candidates for Congress in the 5th district. \nDetails to date: \nDebate Hosts:\nVirginia Tea Party Patriots Federation\nYoung Republicans of Faquier County\nThe Bull Elephant blog \nDebate Co-Hosts:\nThe Republican Committees of: Albemarle – Appomattox – Brunswick – Charlotte – Charlottesville – Fluvanna – Franklin – Greene – Lunenburg – Madison – Mecklenburg – Nelson – Prince Edward – Rappahannock and the Young Republicans of Lynchburg \nDebate Sponsor:\n \nCandidates to attend:\nSen. Tom Garrett Jr.\, R-Buckingham\nJim McKelvey – Businessman\nMichael Del Rosso – Technology Executive\nJoseph Whited – Congressional intelligence adviser \nCo-Moderators:\nJoe Thomas\, Charlottesville Radio host (WCHV) \nJoe is a conservative morning talk radio host on WCHV 1260 AM and 107.5 FM\, and hosts The Afternoon Constitutional radio show in Charlottesville\, Virginia. He also serves as the station’s programming director and the programming director of sister station “Sports Radio 1400”\, WKAV. \n  \n \nCameron Jones \nCam Jones is a retired Army Sergeant with 22 years of service. He worked directly with Jamie Radtke in her Senatorial campaign and he joined the Fauquier County Republican Committee in 2011. He is a Co-Founder of the Fauquier Free Citizen and the Free Citizen movement\, and is a prolific writer who has been published in local papers\, and several online sites including Daily Caller. He has been active in the Virginia Tea Party Patriots Federation since 2012\, and is the current Communications Chairman for the Federation. \n  \n \nAdam Cassandra – Fauquier County Young Republicans \nAdam Cassandra founded the Fauquier County Young Republicans in 2012 and served as the group’s first chairman. He first got involved with the conservative movement through Young Americans for Freedom (YAF)\, serving as YAF’s Maryland state chairman and as an editor of the organization’s official magazine\, The New Guard. Adam works as a communications professional\, and is the author of news and commentary articles featured at the Drudge Report\, The Daily Caller\, CNSNews.com\, LifeSiteNews\, LifeNews\, ConservativeHQ\, American Thinker\, Big Pulpit\, the Truth and Charity Forum\, Catholic Lane and The Wanderer. He lives in Fauquier County with his beautiful wife and daughter. \nMedia:\nBoth WCHV Radio (WCHV 1260 AM and 107.5 FM) and Newsplex Now will be covering this live. \nDownload a debate flyer here: DOWNLOAD\nRSVP for the Debate!
URL:https://vatp.org/event/5th-district-candidate-debate-2016/
LOCATION:Lane Auditorium\, 401 McIntire Rd\, Charlottesville\, VA\, 22902
CATEGORIES:debate
ATTACH;FMTTYPE=image/jpeg:https://vatp.org/wp-content/uploads/2016/03/Fotolia_87926031_S-Web.jpg
END:VEVENT
END:VCALENDAR